Package: BiocPkgTools Version: 1.18.1 Command: rm -rf BiocPkgTools.buildbin-libdir && mkdir BiocPkgTools.buildbin-libdir && F:\biocbuild\bbs-3.17-bioc\R\bin\R.exe CMD INSTALL --build --library=BiocPkgTools.buildbin-libdir BiocPkgTools_1.18.1.tar.gz StartedAt: 2023-10-16 08:29:02 -0400 (Mon, 16 Oct 2023) EndedAt: 2023-10-16 08:29:19 -0400 (Mon, 16 Oct 2023) EllapsedTime: 17.4 seconds RetCode: 0 Status: OK PackageFile: BiocPkgTools_1.18.1.zip PackageFileSize: 1.561 MiB