Package: BiocPkgTools Version: 1.18.1 Command: /home/biocbuild/bbs-3.17-bioc/R/bin/R CMD INSTALL BiocPkgTools StartedAt: 2023-10-15 15:27:58 -0400 (Sun, 15 Oct 2023) EndedAt: 2023-10-15 15:28:07 -0400 (Sun, 15 Oct 2023) EllapsedTime: 9.4 seconds RetCode: 0 Status: OK