Package: BiocPkgTools Version: 1.18.1 Command: /Library/Frameworks/R.framework/Resources/bin/R CMD INSTALL BiocPkgTools StartedAt: 2023-10-15 15:46:54 -0400 (Sun, 15 Oct 2023) EndedAt: 2023-10-15 15:47:27 -0400 (Sun, 15 Oct 2023) EllapsedTime: 33.2 seconds RetCode: 0 Status: OK