Package: BiocPkgTools Version: 1.18.1 Command: /Library/Frameworks/R.framework/Resources/bin/R CMD check --install=check:BiocPkgTools.install-out.txt --library=/Library/Frameworks/R.framework/Resources/library --no-vignettes --timings BiocPkgTools_1.18.1.tar.gz StartedAt: 2023-10-15 23:03:47 -0400 (Sun, 15 Oct 2023) EndedAt: 2023-10-15 23:14:54 -0400 (Sun, 15 Oct 2023) EllapsedTime: 666.7 seconds RetCode: 0 Status: WARNINGS CheckDir: BiocPkgTools.Rcheck Warnings: 1