Package: BiocPkgTools Version: 1.18.1 Command: /Library/Frameworks/R.framework/Resources/bin/R CMD build --keep-empty-dirs --no-resave-data BiocPkgTools StartedAt: 2023-10-15 16:59:40 -0400 (Sun, 15 Oct 2023) EndedAt: 2023-10-15 17:03:08 -0400 (Sun, 15 Oct 2023) EllapsedTime: 208.0 seconds RetCode: 0 Status: OK PackageFile: BiocPkgTools_1.18.1.tar.gz PackageFileSize: 1.404 MiB