Package: BiocPkgTools Version: 1.18.1 Command: rm -rf BiocPkgTools.buildbin-libdir && mkdir BiocPkgTools.buildbin-libdir && /Users/biocbuild/BBS/utils/build-universal.sh BiocPkgTools_1.18.1.tar.gz /Library/Frameworks/R.framework/Resources/bin/R BiocPkgTools.buildbin-libdir StartedAt: 2023-10-16 09:02:09 -0400 (Mon, 16 Oct 2023) EndedAt: 2023-10-16 09:02:47 -0400 (Mon, 16 Oct 2023) EllapsedTime: 38.3 seconds RetCode: 0 Status: OK PackageFile: BiocPkgTools_1.18.1.tgz PackageFileSize: 1.56 MiB