Package: BiocParallel Version: 1.34.2 Command: F:\biocbuild\bbs-3.17-bioc\R\bin\R.exe CMD INSTALL BiocParallel StartedAt: 2023-10-15 16:04:23 -0400 (Sun, 15 Oct 2023) EndedAt: 2023-10-15 16:05:00 -0400 (Sun, 15 Oct 2023) EllapsedTime: 37.2 seconds RetCode: 0 Status: OK