Package: BiocParallel Version: 1.34.2 Command: chmod a+r BiocParallel -R && F:\biocbuild\bbs-3.17-bioc\R\bin\R.exe CMD build --keep-empty-dirs --no-resave-data BiocParallel StartedAt: 2023-10-15 17:38:59 -0400 (Sun, 15 Oct 2023) EndedAt: 2023-10-15 17:43:52 -0400 (Sun, 15 Oct 2023) EllapsedTime: 292.6 seconds RetCode: 0 Status: OK PackageFile: BiocParallel_1.34.2.tar.gz PackageFileSize: 976.5 KiB