Package: BiocParallel Version: 1.34.2 Command: /home/biocbuild/bbs-3.17-bioc/R/bin/R CMD INSTALL BiocParallel StartedAt: 2023-10-15 15:15:54 -0400 (Sun, 15 Oct 2023) EndedAt: 2023-10-15 15:16:09 -0400 (Sun, 15 Oct 2023) EllapsedTime: 14.5 seconds RetCode: 0 Status: OK