Package: BiocParallel Version: 1.34.2 Command: /home/biocbuild/bbs-3.17-bioc/R/bin/R CMD check --install=check:BiocParallel.install-out.txt --library=/home/biocbuild/bbs-3.17-bioc/R/site-library --timings BiocParallel_1.34.2.tar.gz StartedAt: 2023-10-15 19:33:22 -0400 (Sun, 15 Oct 2023) EndedAt: 2023-10-15 19:40:03 -0400 (Sun, 15 Oct 2023) EllapsedTime: 401.4 seconds RetCode: 0 Status: OK CheckDir: BiocParallel.Rcheck Warnings: 0