Package: BiocParallel Version: 1.34.2 Command: /home/biocbuild/bbs-3.17-bioc/R/bin/R CMD build --keep-empty-dirs --no-resave-data BiocParallel StartedAt: 2023-10-15 16:04:49 -0400 (Sun, 15 Oct 2023) EndedAt: 2023-10-15 16:06:46 -0400 (Sun, 15 Oct 2023) EllapsedTime: 117.6 seconds RetCode: 0 Status: OK PackageFile: BiocParallel_1.34.2.tar.gz PackageFileSize: 973.8 KiB