Package: BiocParallel Version: 1.34.2 Command: /Library/Frameworks/R.framework/Resources/bin/R CMD INSTALL BiocParallel StartedAt: 2023-10-15 15:19:45 -0400 (Sun, 15 Oct 2023) EndedAt: 2023-10-15 15:20:26 -0400 (Sun, 15 Oct 2023) EllapsedTime: 41.6 seconds RetCode: 0 Status: OK