Package: BiocParallel Version: 1.34.2 Command: /Library/Frameworks/R.framework/Resources/bin/R CMD build --keep-empty-dirs --no-resave-data BiocParallel StartedAt: 2023-10-15 16:59:28 -0400 (Sun, 15 Oct 2023) EndedAt: 2023-10-15 17:03:45 -0400 (Sun, 15 Oct 2023) EllapsedTime: 256.7 seconds RetCode: 0 Status: OK PackageFile: BiocParallel_1.34.2.tar.gz PackageFileSize: 972.4 KiB