Package: BiocParallel Version: 1.34.2 Command: rm -rf BiocParallel.buildbin-libdir && mkdir BiocParallel.buildbin-libdir && /Users/biocbuild/BBS/utils/build-universal.sh BiocParallel_1.34.2.tar.gz /Library/Frameworks/R.framework/Resources/bin/R BiocParallel.buildbin-libdir StartedAt: 2023-10-16 09:02:04 -0400 (Mon, 16 Oct 2023) EndedAt: 2023-10-16 09:03:01 -0400 (Mon, 16 Oct 2023) EllapsedTime: 57.0 seconds RetCode: 0 Status: OK PackageFile: BiocParallel_1.34.2.tgz PackageFileSize: 1.54 MiB