Package: BiocOncoTK Version: 1.20.0 Command: chmod a+r BiocOncoTK -R && F:\biocbuild\bbs-3.17-bioc\R\bin\R.exe CMD build --keep-empty-dirs --no-resave-data BiocOncoTK StartedAt: 2023-10-15 17:38:42 -0400 (Sun, 15 Oct 2023) EndedAt: 2023-10-15 17:41:10 -0400 (Sun, 15 Oct 2023) EllapsedTime: 148.1 seconds RetCode: 0 Status: OK PackageFile: BiocOncoTK_1.20.0.tar.gz PackageFileSize: 8.323 MiB