Package: BiocOncoTK Version: 1.20.0 Command: /Library/Frameworks/R.framework/Resources/bin/R CMD INSTALL BiocOncoTK StartedAt: 2023-10-15 16:31:17 -0400 (Sun, 15 Oct 2023) EndedAt: 2023-10-15 16:33:53 -0400 (Sun, 15 Oct 2023) EllapsedTime: 155.6 seconds RetCode: 0 Status: OK