Package: BiocIO Version: 1.10.0 Command: rm -rf BiocIO.buildbin-libdir && mkdir BiocIO.buildbin-libdir && F:\biocbuild\bbs-3.17-bioc\R\bin\R.exe CMD INSTALL --build --library=BiocIO.buildbin-libdir BiocIO_1.10.0.tar.gz StartedAt: 2023-10-16 08:28:51 -0400 (Mon, 16 Oct 2023) EndedAt: 2023-10-16 08:29:00 -0400 (Mon, 16 Oct 2023) EllapsedTime: 9.6 seconds RetCode: 0 Status: OK PackageFile: BiocIO_1.10.0.zip PackageFileSize: 408.8 KiB