Package: BiocIO Version: 1.10.0 Command: /Library/Frameworks/R.framework/Resources/bin/R CMD check --install=check:BiocIO.install-out.txt --library=/Library/Frameworks/R.framework/Resources/library --no-vignettes --timings BiocIO_1.10.0.tar.gz StartedAt: 2023-10-15 23:02:17 -0400 (Sun, 15 Oct 2023) EndedAt: 2023-10-15 23:03:59 -0400 (Sun, 15 Oct 2023) EllapsedTime: 101.9 seconds RetCode: 0 Status: OK CheckDir: BiocIO.Rcheck Warnings: 0