Package: BiocHubsShiny Version: 1.0.0 Command: F:\biocbuild\bbs-3.17-bioc\R\bin\R.exe CMD check --no-multiarch --install=check:BiocHubsShiny.install-out.txt --library=F:\biocbuild\bbs-3.17-bioc\R\library --no-vignettes --timings BiocHubsShiny_1.0.0.tar.gz StartedAt: 2023-10-15 23:53:57 -0400 (Sun, 15 Oct 2023) EndedAt: 2023-10-15 23:56:11 -0400 (Sun, 15 Oct 2023) EllapsedTime: 133.9 seconds RetCode: 0 Status: OK CheckDir: BiocHubsShiny.Rcheck Warnings: 0