Package: BiocHubsShiny Version: 1.0.0 Command: rm -rf BiocHubsShiny.buildbin-libdir && mkdir BiocHubsShiny.buildbin-libdir && F:\biocbuild\bbs-3.17-bioc\R\bin\R.exe CMD INSTALL --build --library=BiocHubsShiny.buildbin-libdir BiocHubsShiny_1.0.0.tar.gz StartedAt: 2023-10-16 08:28:49 -0400 (Mon, 16 Oct 2023) EndedAt: 2023-10-16 08:29:10 -0400 (Mon, 16 Oct 2023) EllapsedTime: 20.5 seconds RetCode: 0 Status: OK PackageFile: BiocHubsShiny_1.0.0.zip PackageFileSize: 742.7 KiB