Package: BiocHubsShiny Version: 1.0.0 Command: /home/biocbuild/bbs-3.17-bioc/R/bin/R CMD build --keep-empty-dirs --no-resave-data BiocHubsShiny StartedAt: 2023-10-15 16:04:40 -0400 (Sun, 15 Oct 2023) EndedAt: 2023-10-15 16:05:02 -0400 (Sun, 15 Oct 2023) EllapsedTime: 22.1 seconds RetCode: 0 Status: OK PackageFile: BiocHubsShiny_1.0.0.tar.gz PackageFileSize: 1.602 MiB