Package: BiocHubsShiny Version: 1.0.0 Command: /Library/Frameworks/R.framework/Resources/bin/R CMD check --install=check:BiocHubsShiny.install-out.txt --library=/Library/Frameworks/R.framework/Resources/library --no-vignettes --timings BiocHubsShiny_1.0.0.tar.gz StartedAt: 2023-10-15 23:02:16 -0400 (Sun, 15 Oct 2023) EndedAt: 2023-10-15 23:08:10 -0400 (Sun, 15 Oct 2023) EllapsedTime: 353.6 seconds RetCode: 0 Status: OK CheckDir: BiocHubsShiny.Rcheck Warnings: 0