Package: BiocHubsShiny Version: 1.0.0 Command: /Library/Frameworks/R.framework/Resources/bin/R CMD build --keep-empty-dirs --no-resave-data BiocHubsShiny StartedAt: 2023-10-15 16:58:32 -0400 (Sun, 15 Oct 2023) EndedAt: 2023-10-15 16:59:42 -0400 (Sun, 15 Oct 2023) EllapsedTime: 69.3 seconds RetCode: 0 Status: OK PackageFile: BiocHubsShiny_1.0.0.tar.gz PackageFileSize: 1.602 MiB