Package: BiocHubsShiny Version: 1.0.0 Command: rm -rf BiocHubsShiny.buildbin-libdir && mkdir BiocHubsShiny.buildbin-libdir && /Users/biocbuild/BBS/utils/build-universal.sh BiocHubsShiny_1.0.0.tar.gz /Library/Frameworks/R.framework/Resources/bin/R BiocHubsShiny.buildbin-libdir StartedAt: 2023-10-16 09:01:51 -0400 (Mon, 16 Oct 2023) EndedAt: 2023-10-16 09:02:49 -0400 (Mon, 16 Oct 2023) EllapsedTime: 58.1 seconds RetCode: 0 Status: OK PackageFile: BiocHubsShiny_1.0.0.tgz PackageFileSize: 740 KiB