Package: BiocHail Version: 1.0.1 Command: /home/biocbuild/bbs-3.17-bioc/R/bin/R CMD INSTALL BiocHail StartedAt: 2023-10-15 15:15:58 -0400 (Sun, 15 Oct 2023) EndedAt: 2023-10-15 15:16:06 -0400 (Sun, 15 Oct 2023) EllapsedTime: 8.5 seconds RetCode: 0 Status: OK