Package: BiocHail Version: 1.0.1 Command: /home/biocbuild/bbs-3.17-bioc/R/bin/R CMD check --install=check:BiocHail.install-out.txt --library=/home/biocbuild/bbs-3.17-bioc/R/site-library --timings BiocHail_1.0.1.tar.gz StartedAt: 2023-10-15 19:32:42 -0400 (Sun, 15 Oct 2023) EndedAt: 2023-10-15 19:39:27 -0400 (Sun, 15 Oct 2023) EllapsedTime: 405.0 seconds RetCode: 0 Status: OK CheckDir: BiocHail.Rcheck Warnings: 0