Package: BiocHail Version: 1.0.1 Command: /home/biocbuild/bbs-3.17-bioc/R/bin/R CMD build --keep-empty-dirs --no-resave-data BiocHail StartedAt: 2023-10-15 16:04:36 -0400 (Sun, 15 Oct 2023) EndedAt: 2023-10-15 16:06:09 -0400 (Sun, 15 Oct 2023) EllapsedTime: 93.1 seconds RetCode: 0 Status: OK PackageFile: BiocHail_1.0.1.tar.gz PackageFileSize: 2.571 MiB