git_url: https://git.bioconductor.org/packages/BiocHail git_branch: RELEASE_3_17 git_last_commit: f0ee4b7 git_last_commit_date: 2023-08-22 00:36:52 -0400 (Tue, 22 Aug 2023) Package: BiocHail Version: 1.0.1 Maintainer: Vincent Carey MaintainerEmail: stvjc at channing.harvard.edu