Package: BiocFileCache Version: 2.8.0 Command: chmod a+r BiocFileCache -R && F:\biocbuild\bbs-3.17-bioc\R\bin\R.exe CMD build --keep-empty-dirs --no-resave-data BiocFileCache StartedAt: 2023-10-15 17:38:24 -0400 (Sun, 15 Oct 2023) EndedAt: 2023-10-15 17:39:56 -0400 (Sun, 15 Oct 2023) EllapsedTime: 92.3 seconds RetCode: 0 Status: OK PackageFile: BiocFileCache_2.8.0.tar.gz PackageFileSize: 292.6 KiB