Package: BiocFileCache Version: 2.8.0 Command: rm -rf BiocFileCache.buildbin-libdir && mkdir BiocFileCache.buildbin-libdir && F:\biocbuild\bbs-3.17-bioc\R\bin\R.exe CMD INSTALL --build --library=BiocFileCache.buildbin-libdir BiocFileCache_2.8.0.tar.gz StartedAt: 2023-10-16 08:28:44 -0400 (Mon, 16 Oct 2023) EndedAt: 2023-10-16 08:29:03 -0400 (Mon, 16 Oct 2023) EllapsedTime: 19.3 seconds RetCode: 0 Status: OK PackageFile: BiocFileCache_2.8.0.zip PackageFileSize: 525.5 KiB