Package: BiocFHIR Version: 1.2.0 Command: /Library/Frameworks/R.framework/Resources/bin/R CMD check --install=check:BiocFHIR.install-out.txt --library=/Library/Frameworks/R.framework/Resources/library --no-vignettes --timings BiocFHIR_1.2.0.tar.gz StartedAt: 2023-10-15 23:01:37 -0400 (Sun, 15 Oct 2023) EndedAt: 2023-10-15 23:05:37 -0400 (Sun, 15 Oct 2023) EllapsedTime: 240.0 seconds RetCode: 0 Status: OK CheckDir: BiocFHIR.Rcheck Warnings: 0