Package: BiocDockerManager Version: 1.12.0 Command: chmod a+r BiocDockerManager -R && F:\biocbuild\bbs-3.17-bioc\R\bin\R.exe CMD build --keep-empty-dirs --no-resave-data BiocDockerManager StartedAt: 2023-10-15 17:38:13 -0400 (Sun, 15 Oct 2023) EndedAt: 2023-10-15 17:38:31 -0400 (Sun, 15 Oct 2023) EllapsedTime: 18.2 seconds RetCode: 0 Status: OK PackageFile: BiocDockerManager_1.12.0.tar.gz PackageFileSize: 233.3 KiB