Package: BiocDockerManager Version: 1.12.0 Command: rm -rf BiocDockerManager.buildbin-libdir && mkdir BiocDockerManager.buildbin-libdir && F:\biocbuild\bbs-3.17-bioc\R\bin\R.exe CMD INSTALL --build --library=BiocDockerManager.buildbin-libdir BiocDockerManager_1.12.0.tar.gz StartedAt: 2023-10-16 08:28:41 -0400 (Mon, 16 Oct 2023) EndedAt: 2023-10-16 08:28:49 -0400 (Mon, 16 Oct 2023) EllapsedTime: 8.0 seconds RetCode: 0 Status: OK PackageFile: BiocDockerManager_1.12.0.zip PackageFileSize: 384.7 KiB