Package: BiocDockerManager Version: 1.12.0 Command: /Library/Frameworks/R.framework/Resources/bin/R CMD check --install=check:BiocDockerManager.install-out.txt --library=/Library/Frameworks/R.framework/Resources/library --no-vignettes --timings BiocDockerManager_1.12.0.tar.gz StartedAt: 2023-10-15 23:00:49 -0400 (Sun, 15 Oct 2023) EndedAt: 2023-10-15 23:02:21 -0400 (Sun, 15 Oct 2023) EllapsedTime: 92.4 seconds RetCode: 1 Status: ERROR CheckDir: BiocDockerManager.Rcheck Warnings: NA