Package: BiocCheck Version: 1.36.1 Command: /home/biocbuild/bbs-3.17-bioc/R/bin/R CMD build --keep-empty-dirs --no-resave-data BiocCheck StartedAt: 2023-10-15 16:04:12 -0400 (Sun, 15 Oct 2023) EndedAt: 2023-10-15 16:04:27 -0400 (Sun, 15 Oct 2023) EllapsedTime: 14.9 seconds RetCode: 0 Status: OK PackageFile: BiocCheck_1.36.1.tar.gz PackageFileSize: 4.171 MiB