Package: BiocCheck Version: 1.36.1 Command: /Library/Frameworks/R.framework/Resources/bin/R CMD build --keep-empty-dirs --no-resave-data BiocCheck StartedAt: 2023-10-15 16:57:47 -0400 (Sun, 15 Oct 2023) EndedAt: 2023-10-15 16:58:32 -0400 (Sun, 15 Oct 2023) EllapsedTime: 45.4 seconds RetCode: 0 Status: OK PackageFile: BiocCheck_1.36.1.tar.gz PackageFileSize: 4.171 MiB