Package: BiocBaseUtils Version: 1.2.0 Command: F:\biocbuild\bbs-3.17-bioc\R\bin\R.exe CMD INSTALL BiocBaseUtils StartedAt: 2023-10-15 15:48:03 -0400 (Sun, 15 Oct 2023) EndedAt: 2023-10-15 15:48:21 -0400 (Sun, 15 Oct 2023) EllapsedTime: 17.8 seconds RetCode: 0 Status: OK