Package: BiocBaseUtils Version: 1.2.0 Command: rm -rf BiocBaseUtils.buildbin-libdir && mkdir BiocBaseUtils.buildbin-libdir && F:\biocbuild\bbs-3.17-bioc\R\bin\R.exe CMD INSTALL --build --library=BiocBaseUtils.buildbin-libdir BiocBaseUtils_1.2.0.tar.gz StartedAt: 2023-10-16 08:28:38 -0400 (Mon, 16 Oct 2023) EndedAt: 2023-10-16 08:28:42 -0400 (Mon, 16 Oct 2023) EllapsedTime: 4.6 seconds RetCode: 0 Status: OK PackageFile: BiocBaseUtils_1.2.0.zip PackageFileSize: 242.7 KiB