Package: BiocBaseUtils Version: 1.2.0 Command: /Library/Frameworks/R.framework/Resources/bin/R CMD check --install=check:BiocBaseUtils.install-out.txt --library=/Library/Frameworks/R.framework/Resources/library --no-vignettes --timings BiocBaseUtils_1.2.0.tar.gz StartedAt: 2023-10-15 23:00:06 -0400 (Sun, 15 Oct 2023) EndedAt: 2023-10-15 23:00:48 -0400 (Sun, 15 Oct 2023) EllapsedTime: 42.0 seconds RetCode: 0 Status: OK CheckDir: BiocBaseUtils.Rcheck Warnings: 0