Package: Biobase Version: 2.60.0 Command: chmod a+r Biobase -R && F:\biocbuild\bbs-3.17-bioc\R\bin\R.exe CMD build --keep-empty-dirs --no-resave-data Biobase StartedAt: 2023-10-15 17:36:58 -0400 (Sun, 15 Oct 2023) EndedAt: 2023-10-15 17:37:40 -0400 (Sun, 15 Oct 2023) EllapsedTime: 42.1 seconds RetCode: 0 Status: OK PackageFile: Biobase_2.60.0.tar.gz PackageFileSize: 1.715 MiB