Package: BioQC Version: 1.28.0 Command: chmod a+r BioQC -R && F:\biocbuild\bbs-3.17-bioc\R\bin\R.exe CMD build --keep-empty-dirs --no-resave-data BioQC StartedAt: 2023-10-15 17:45:33 -0400 (Sun, 15 Oct 2023) EndedAt: 2023-10-15 17:48:51 -0400 (Sun, 15 Oct 2023) EllapsedTime: 198.5 seconds RetCode: 0 Status: OK PackageFile: BioQC_1.28.0.tar.gz PackageFileSize: 4.302 MiB