Package: BioQC Version: 1.28.0 Command: /home/biocbuild/bbs-3.17-bioc/R/bin/R CMD check --install=check:BioQC.install-out.txt --library=/home/biocbuild/bbs-3.17-bioc/R/site-library --timings BioQC_1.28.0.tar.gz StartedAt: 2023-10-15 19:37:51 -0400 (Sun, 15 Oct 2023) EndedAt: 2023-10-15 19:40:27 -0400 (Sun, 15 Oct 2023) EllapsedTime: 156.6 seconds RetCode: 0 Status: OK CheckDir: BioQC.Rcheck Warnings: 0