Package: BioQC Version: 1.28.0 Command: /home/biocbuild/bbs-3.17-bioc/R/bin/R CMD build --keep-empty-dirs --no-resave-data BioQC StartedAt: 2023-10-15 16:06:49 -0400 (Sun, 15 Oct 2023) EndedAt: 2023-10-15 16:08:41 -0400 (Sun, 15 Oct 2023) EllapsedTime: 112.3 seconds RetCode: 0 Status: OK PackageFile: BioQC_1.28.0.tar.gz PackageFileSize: 4.3 MiB