Package: BioQC Version: 1.28.0 Command: /Library/Frameworks/R.framework/Resources/bin/R CMD build --keep-empty-dirs --no-resave-data BioQC StartedAt: 2023-10-15 17:03:08 -0400 (Sun, 15 Oct 2023) EndedAt: 2023-10-15 17:07:53 -0400 (Sun, 15 Oct 2023) EllapsedTime: 285.6 seconds RetCode: 0 Status: OK PackageFile: BioQC_1.28.0.tar.gz PackageFileSize: 4.299 MiB