Package: BioNetStat Version: 1.20.0 Command: chmod a+r BioNetStat -R && F:\biocbuild\bbs-3.17-bioc\R\bin\R.exe CMD build --keep-empty-dirs --no-resave-data BioNetStat StartedAt: 2023-10-15 17:45:01 -0400 (Sun, 15 Oct 2023) EndedAt: 2023-10-15 17:45:32 -0400 (Sun, 15 Oct 2023) EllapsedTime: 31.0 seconds RetCode: 0 Status: OK PackageFile: BioNetStat_1.20.0.tar.gz PackageFileSize: 2.88 MiB