Package: BioNetStat Version: 1.20.0 Command: /Library/Frameworks/R.framework/Resources/bin/R CMD INSTALL BioNetStat StartedAt: 2023-10-15 15:50:33 -0400 (Sun, 15 Oct 2023) EndedAt: 2023-10-15 15:51:39 -0400 (Sun, 15 Oct 2023) EllapsedTime: 65.6 seconds RetCode: 0 Status: OK