Package: BioNet Version: 1.60.0 Command: /home/biocbuild/bbs-3.17-bioc/R/bin/R CMD build --keep-empty-dirs --no-resave-data BioNet StartedAt: 2023-10-15 16:06:29 -0400 (Sun, 15 Oct 2023) EndedAt: 2023-10-15 16:07:17 -0400 (Sun, 15 Oct 2023) EllapsedTime: 47.5 seconds RetCode: 0 Status: OK PackageFile: BioNet_1.60.0.tar.gz PackageFileSize: 1.61 MiB