Package: BioNAR Version: 1.2.5 Command: F:\biocbuild\bbs-3.17-bioc\R\bin\R.exe CMD check --no-multiarch --install=check:BioNAR.install-out.txt --library=F:\biocbuild\bbs-3.17-bioc\R\library --no-vignettes --timings BioNAR_1.2.5.tar.gz StartedAt: 2023-10-15 23:59:55 -0400 (Sun, 15 Oct 2023) EndedAt: 2023-10-16 00:11:16 -0400 (Mon, 16 Oct 2023) EllapsedTime: 680.6 seconds RetCode: 0 Status: OK CheckDir: BioNAR.Rcheck Warnings: 0