Package: BioNAR Version: 1.2.5 Command: chmod a+r BioNAR -R && F:\biocbuild\bbs-3.17-bioc\R\bin\R.exe CMD build --keep-empty-dirs --no-resave-data BioNAR StartedAt: 2023-10-15 17:44:50 -0400 (Sun, 15 Oct 2023) EndedAt: 2023-10-15 17:49:50 -0400 (Sun, 15 Oct 2023) EllapsedTime: 300.0 seconds RetCode: 0 Status: OK PackageFile: BioNAR_1.2.5.tar.gz PackageFileSize: 2.285 MiB