Package: BioNAR Version: 1.2.5 Command: rm -rf BioNAR.buildbin-libdir && mkdir BioNAR.buildbin-libdir && F:\biocbuild\bbs-3.17-bioc\R\bin\R.exe CMD INSTALL --build --library=BioNAR.buildbin-libdir BioNAR_1.2.5.tar.gz StartedAt: 2023-10-16 08:29:37 -0400 (Mon, 16 Oct 2023) EndedAt: 2023-10-16 08:30:29 -0400 (Mon, 16 Oct 2023) EllapsedTime: 51.8 seconds RetCode: 0 Status: OK PackageFile: BioNAR_1.2.5.zip PackageFileSize: 2.662 MiB